BEGIN:VCALENDAR
VERSION:2.0
PRODID:-//britishgt.com//iCal Event
METHOD:PUBLISH
CALSCALE:GREGORIAN
BEGIN:VEVENT
DTSTAMP:20260422T074521Z
UID:GTWCEU-109
DTSTART;VALUE=DATE:20260425
DTEND;VALUE=DATE:20260426
SUMMARY:GTWC RD1
ORGANIZER;CN='British GT':mailto:info@sro-motorsports.com
URL:https://www.britishgt.com/event/109/silverstone
DESCRIPTION:Silverstone GP Round 1
LOCATION:Great Britain\, Silverstone GP
LAST-MODIFIED:20260422T074521Z
STATUS:CONFIRMED
END:VEVENT
END:VCALENDAR