BEGIN:VCALENDAR
VERSION:2.0
PRODID:-//britishgt.com//iCal Event
METHOD:PUBLISH
CALSCALE:GREGORIAN
BEGIN:VEVENT
DTSTAMP:20260422T074521Z
UID:GTWCEU-111
DTSTART;VALUE=DATE:20260620
DTEND;VALUE=DATE:20260621
SUMMARY:GTWC RD4
ORGANIZER;CN='British GT':mailto:info@sro-motorsports.com
URL:https://www.britishgt.com/event/111/spa-francorchamps
DESCRIPTION:Spa-Francorchamps Round 4
LOCATION:Belgium\, Spa-Francorchamps
LAST-MODIFIED:20260422T074521Z
STATUS:CONFIRMED
END:VEVENT
END:VCALENDAR