BEGIN:VCALENDAR
VERSION:2.0
PRODID:-//britishgt.com//iCal Event
METHOD:PUBLISH
CALSCALE:GREGORIAN
BEGIN:VEVENT
DTSTAMP:20260422T074524Z
UID:GTWCEU-112
DTSTART;VALUE=DATE:20260815
DTEND;VALUE=DATE:20260816
SUMMARY:GTWC RD5 & 6
ORGANIZER;CN='British GT':mailto:info@sro-motorsports.com
URL:https://www.britishgt.com/event/112/snetterton
DESCRIPTION:Snetterton 300 Round 5 & 6
LOCATION:Great Britain\, Snetterton 300
LAST-MODIFIED:20260422T074524Z
STATUS:CONFIRMED
END:VEVENT
END:VCALENDAR