BEGIN:VCALENDAR
VERSION:2.0
PRODID:-//britishgt.com//iCal Event
METHOD:PUBLISH
CALSCALE:GREGORIAN
BEGIN:VEVENT
DTSTAMP:20260422T074520Z
UID:GTWCEU-114
DTSTART;VALUE=DATE:20260905
DTEND;VALUE=DATE:20260906
SUMMARY:GTWC RD7
ORGANIZER;CN='British GT':mailto:info@sro-motorsports.com
URL:https://www.britishgt.com/event/114/donington-park
DESCRIPTION:Donington Park GP Round 7
LOCATION:Great Britain\, Donington Park GP
LAST-MODIFIED:20260422T074520Z
STATUS:CONFIRMED
END:VEVENT
END:VCALENDAR